{"text_format":"2","workbook":"xlsx","n_sheets":3,"sheets":["JB Bestiling","Sportsmaster Bestilling","Sponsor oplysninger"],"not_rendered":{"charts":0,"images":10,"macros":0,"external_links":1,"defined_names":2,"comments":0,"pivot_tables":0},"unopened":[],"bounds":{"document_bytes":16777216,"sheet_cells":100000,"run_cost":"one","rows_first":2000,"rows_last":500,"rows_between":2000,"halvings":0,"cell_chars":16384,"cell_head_chars":4096},"cells_cut":0,"cells_raw":0,"read":"whole","date_system":"1900"}

{"sheet":"JB Bestiling","index":0,"n_rows":103,"n_cols":9,"rows_kept":103,"cut":false,"hidden":false,"merged":[[4,7,4,8],[0,3,1,5],[0,1,0,2],[2,7,2,8]]}
[null,"GULE FELTER SKAL UDFYLDES!",null,"Hjemmebane - Kampsæt"]
[]
[null,"ÅRGANG",null,"HOLD",null,null,"HOLDANSVARLIG"]
[]
[null,"PRIS INKL. MOMS*",{"$f":"COUNTA(G14:G46)*499+COUNTA(G50:G52)*599","v":0},"BETALES AF",null,null,"KLUBBENS KONTO NR","1551 - 9125027"]
[]
[null,"DATO",null,null,"INDBETALING TIL JÆGERSBORG KONTO SKAL FINDE STED SENEST 5 DAGE EFTER BESTILLING"]
[]
[null,"*Prisen forudsætter korrekt udfyldt ark og der tages derfor forbehold for denne. Priser er som aftalt jævnfør kontrakt mellem JBK og SPORTMASTER."]
[null,"Tilføjes sponsorlogo stiger prisen afhængigt af om logostørrelser, farver og om der er tale om nyt eller eksisterende logo."]
[]
[null,"Markspillere"," ",{"$nulls":4}," "]
[null,"Fornavn","Efternavn","Navn på trøje","Tryk","Nummer","Trøje str","Shorts str","Strømper str"]
[null," "," "," ",{"$f":"UPPER(D14)","v":" "}]
[null,null,null," ",{"$f":"UPPER(D15)","v":" "},null,null,null," "]
[null,null," ",null,"",null,null," "]
[null," ",null,null,"",null,null," "," "]
[{"$nulls":4},"",null,null," "," "]
[{"$nulls":4},"",null,null," "," "]
[{"$nulls":4},"",null,null," "," "]
[{"$nulls":4},"",null,null," "," "]
[{"$nulls":4},"",null,null," "," "]
[{"$nulls":4},"",null,null," "," "]
[{"$nulls":4},"",null,null," "," "]
[{"$nulls":4},"",null,null," "," "]
[{"$nulls":4},"",null,null," "," "]
[{"$nulls":4},"",null,null," "," "]
[{"$nulls":4},"",null,null," "," "]
[{"$nulls":4},"",null,null," "," "]
[{"$nulls":4},"",null,null," "," "]
[{"$nulls":4},"",null,null," "," "]
[{"$nulls":4},"",null,null," "," "]
[{"$nulls":4},"",null,null," "," "]
[{"$nulls":4},"",null,null," "," "]
[{"$nulls":4},"",null,null," "," "]
[{"$nulls":4},"",null,null," "," "]
[{"$nulls":4},"",null,null," "," "]
[{"$nulls":4},"",null,null," "," "]
[{"$nulls":4},"",null,null," "," "]
[{"$nulls":4},"",null,null," "," "]
[{"$nulls":4},"",null,null," "," "]
[{"$nulls":4},"",null,null," "," "]
[{"$nulls":4},"",null,null," "," "]
[null,null,null," "," ",null,null," "," "]
[{"$nulls":4},"",null,null," "," "]
[{"$nulls":4},""]
[]
[null,"Målmænd"]
[null,"Fornavn","Efternavn","Navn på trøje","Tryk","Nummer","Trøje str","Shorts str","Strømper str"]
[null," ",null," ",{"$f":"UPPER(D50)","v":" "}]
[null,null," ",null,""]
[{"$nulls":4},""]
[]
[null,"TRYK på spilletrøjer","Bryst (venstre)","JB Logo"]
[null," ","Ryg (øverst)","Navn = kolonne D"]
[null,null,"Ryg (evt. shorts)","Nummer = Kolonne F"]
[]
[null,"Trøjestørrelser:","Shortsstørrelser:","Strømpestørrelser:",null,null,"Årgang","Hold"]
[null," "," "," "]
[null,116,116,"27-30",null,null,"INGEN (Senior og UNIK)","Drenge"]
[null,128,128,"31-33",null,null,2000,"Piger"]
[null,140,140,"34-36",null,null,2001,"Soccermoms"]
[null,152,152,"37-39",null,null,2002,"Soccerdads"]
[null,164,164,"40-42",null,null,2003,"Senior 1"]
[null,"S","S","43-45",null,null,2004,"Senior 2"]
[null,"M","M","46-48",null,null,2005,"Senior 3"]
[null,"L","L",null,null,null,2006,"Senior 4"]
[null,"XL","XL",null,null,null,2007,"Senior 5"]
[null,"XXL","XXL",null,null,null,2008,"Veteraner"]
[{"$nulls":6},2009,"60+"]
[{"$nulls":6},2010,"CP"]
[null,"Målmandstrøje",null,null,"JÆGERSBORG BK",null,2011]
[null," ",null,null,"SPONSOR - Udfyld ark",null,2012]
[null,"Blå 116",null,null,"TRÆNER/HOLDLEDER",null,2013]
[null,"Blå 128",{"$nulls":4},2014]
[null,"Blå 140",{"$nulls":4},2015]
[null,"Blå 152",{"$nulls":4},2016]
[null,"Blå 164",{"$nulls":4},2017]
[null,"Blå S",{"$nulls":4},2018]
[null,"Blå M"]
[null,"Blå L"]
[null,"Blå XL"]
[null,"Blå XXL"]
[null,"Grøn 116"]
[null,"Grøn 128"]
[null,"Grøn 140"]
[null,"Grøn 152"]
[null,"Grøn 164"]
[null,"Grøn S"]
[null,"Grøn M"]
[null,"Grøn L"]
[null,"Grøn XL"]
[null,"Grøn XXL"]
[null,"Orange 116"]
[null,"Orange 128"]
[null,"Orange 140"]
[null,"Orange 152"]
[null,"Orange 164"]
[null,"Orange S"]
[null,"Orange M"]
[null,"Orange L"]
[null,"Orange XL"]
[null,"Orange XXL"]

{"sheet":"Sportsmaster Bestilling","index":1,"n_rows":83,"n_cols":16,"rows_kept":83,"cut":false,"hidden":false,"merged":[[18,7,18,8]]}
[{"$nulls":4},"Årgang",{"$f":"'JB Bestiling'!C3","v":0}]
[null,"Jægersborg sortiment",null,null,"Hold",{"$f":"'JB Bestiling'!E3","v":0},null,null,"Børn/Voksen",null,"Målmand",null,"Størrelse for tryk:","Str. ","Bemærkninger"]
[{"$nulls":4},"Holdans.",{"$f":"'JB Bestiling'!H3","v":0},null,"Udebanesæt",499,null,599,null,"Logo","9 cm."]
[{"$nulls":7},"Stylenavn","Dessinnr.:","SDK","Farve",null,"Tal på ryg","24,5 cm."]
[{"$nulls":7},"Tabela t-shirt","CE8936",1581826,"Blå",null,"Tal på shorts + taske","5 cm. ","Navn: efternavn, fornavn eller kaldenavn - dette er op til den årgangsansvarlige"]
[{"$nulls":7},"Squadra shorts","BJ9227",1492318,"Hvid",null,"Navn på ryg","5 cm. "]
[{"$nulls":7},"Adisock strømper","CF3578",2001463,"Blå",null,"Initialer","3,5 cm. "]
[{"$nulls":7},"Assita trøje","AZ5398",1494820,"Orange",{"$nulls":4}," "]
[{"$nulls":7},"Assita trøje","AZ5399",1494821,"Blå",null,"Tryk","Str. ","Pris pr. tal"]
[null,{"$f":"H5","v":"Tabela t-shirt"},{"$f":"I5","v":"CE8936"},1581826,116,{"$f":"COUNTIF('JB Bestiling'!$G$14:$G$46,E10)","v":0},null,"Assita trøje","AZ5400",1494822,"Grøn",null,"Tal på bryst/short","5 cm",25]
[{"$nulls":4},128,{"$f":"COUNTIF('JB Bestiling'!$G$14:$G$46,E11)","v":0},null,"GK - Squadra shorts","BK4766",1495073,"Sort",null,"Sponsorlogo 1-farvet","10*25",37.5]
[{"$nulls":4},140,{"$f":"COUNTIF('JB Bestiling'!$G$14:$G$46,E12)","v":0},null,"GK - Adisock strømper","CF3576",2001461,"Sort",null,"Sponsorlogo 1-farvet","10*10",25]
[{"$nulls":4},152,{"$f":"COUNTIF('JB Bestiling'!$G$14:$G$46,E13)","v":0},null,"Tee: Klublogo på venstre bryst samt navn og nummer på ryg.",{"$nulls":4},"Nyt sponsorlogo (gebyr)",null,250,"Vektorformat "]
[{"$nulls":4},164,{"$f":"COUNTIF('JB Bestiling'!$G$14:$G$46,E14)","v":0},null,"Shorts: Klublogo på venstre lår",{"$nulls":4},"Prisen gælder ved 1-farvet logo"]
[{"$nulls":4},"S",{"$f":"COUNTIF('JB Bestiling'!$G$14:$G$46,E15)","v":0},null,"Udvidet: Tal på højre lår - koster ekstra - se pris i oversigten"]
[{"$nulls":4},"M",{"$f":"COUNTIF('JB Bestiling'!$G$14:$G$46,E16)","v":0}]
[{"$nulls":4},"L",{"$f":"COUNTIF('JB Bestiling'!$G$14:$G$46,E17)","v":0}]
[{"$nulls":4},"XL",{"$f":"COUNTIF('JB Bestiling'!$G$14:$G$46,E18)","v":0}]
[{"$nulls":4},"XXL",{"$f":"COUNTIF('JB Bestiling'!$G$14:$G$46,E19)","v":0},null,"Optælling / Kontrol"]
[null,{"$f":"H6","v":"Squadra shorts"},{"$f":"I6","v":"BJ9227"},{"$f":"J6","v":1492318},116,{"$f":"COUNTIF('JB Bestiling'!$H$14:$H$46,E20)","v":0},null,"Markspiller - Tee",{"$f":"SUM(F10:F19)","v":0}]
[{"$nulls":4},128,{"$f":"COUNTIF('JB Bestiling'!$H$14:$H$46,E21)","v":0},null,"Markspiller - Short",{"$f":"SUM(F20:F29)","v":0}]
[{"$nulls":4},140,{"$f":"COUNTIF('JB Bestiling'!$H$14:$H$46,E22)","v":0},null,"Markspiller - Strømper",{"$f":"SUM(F30:F36)","v":0}]
[{"$nulls":4},152,{"$f":"COUNTIF('JB Bestiling'!$H$14:$H$46,E23)","v":0},null,"GK - Tee",{"$f":"SUM(F37:F66)","v":0}]
[{"$nulls":4},164,{"$f":"COUNTIF('JB Bestiling'!$H$14:$H$46,E24)","v":0},null,"GK - Short",{"$f":"SUM(F67:F76)","v":0}]
[{"$nulls":4},"S",{"$f":"COUNTIF('JB Bestiling'!$H$14:$H$46,E25)","v":0},null,"GK - Strømper",{"$f":"SUM(F77:F83)","v":0}]
[{"$nulls":4},"M",{"$f":"COUNTIF('JB Bestiling'!$H$14:$H$46,E26)","v":0},null,"Enheder i alt",{"$f":"SUM(I20:I25)","v":0}]
[{"$nulls":4},"L",{"$f":"COUNTIF('JB Bestiling'!$H$14:$H$46,E27)","v":0}]
[{"$nulls":4},"XL",{"$f":"COUNTIF('JB Bestiling'!$H$14:$H$46,E28)","v":0}]
[{"$nulls":4},"XXL",{"$f":"COUNTIF('JB Bestiling'!$H$14:$H$46,E29)","v":0}]
[null,{"$f":"H7","v":"Adisock strømper"},{"$f":"I7","v":"CF3578"},2001463,{"$f":"'JB Bestiling'!D60","v":"27-30"},{"$f":"COUNTIF('JB Bestiling'!$I$14:$I$46,E30)","v":0}]
[{"$nulls":4},{"$f":"'JB Bestiling'!D61","v":"31-33"},{"$f":"COUNTIF('JB Bestiling'!$I$14:$I$46,E31)","v":0}]
[{"$nulls":4},{"$f":"'JB Bestiling'!D62","v":"34-36"},{"$f":"COUNTIF('JB Bestiling'!$I$14:$I$46,E32)","v":0}]
[{"$nulls":4},{"$f":"'JB Bestiling'!D63","v":"37-39"},{"$f":"COUNTIF('JB Bestiling'!$I$14:$I$46,E33)","v":0}]
[{"$nulls":4},{"$f":"'JB Bestiling'!D64","v":"40-42"},{"$f":"COUNTIF('JB Bestiling'!$I$14:$I$46,E34)","v":0}]
[{"$nulls":4},{"$f":"'JB Bestiling'!D65","v":"43-45"},{"$f":"COUNTIF('JB Bestiling'!$I$14:$I$46,E35)","v":0}]
[{"$nulls":4},{"$f":"'JB Bestiling'!D66","v":"46-48"},{"$f":"COUNTIF('JB Bestiling'!$I$14:$I$46,E36)","v":0}]
[null,{"$f":"H8","v":"Assita trøje"},{"$f":"I8","v":"AZ5398"},1494820,116,{"$f":"COUNTIF('JB Bestiling'!$G$50:$G$52,'JB Bestiling'!B94)","v":0}]
[null,"Orange",null,null,128,{"$f":"COUNTIF('JB Bestiling'!$G$50:$G$52,'JB Bestiling'!B95)","v":0}]
[{"$nulls":4},140,{"$f":"COUNTIF('JB Bestiling'!$G$50:$G$52,'JB Bestiling'!B96)","v":0}]
[{"$nulls":4},152,{"$f":"COUNTIF('JB Bestiling'!$G$50:$G$52,'JB Bestiling'!B97)","v":0}]
[{"$nulls":4},164,{"$f":"COUNTIF('JB Bestiling'!$G$50:$G$52,'JB Bestiling'!B98)","v":0}]
[{"$nulls":4},"S",{"$f":"COUNTIF('JB Bestiling'!$G$50:$G$52,'JB Bestiling'!B99)","v":0}]
[{"$nulls":4},"M",{"$f":"COUNTIF('JB Bestiling'!$G$50:$G$52,'JB Bestiling'!B100)","v":0}]
[{"$nulls":4},"L",{"$f":"COUNTIF('JB Bestiling'!$G$50:$G$52,'JB Bestiling'!B101)","v":0}]
[{"$nulls":4},"XL",{"$f":"COUNTIF('JB Bestiling'!$G$50:$G$52,'JB Bestiling'!B102)","v":0}]
[{"$nulls":4},"XXL",{"$f":"COUNTIF('JB Bestiling'!$G$50:$G$52,'JB Bestiling'!B103)","v":0}]
[null,{"$f":"H9","v":"Assita trøje"},{"$f":"I9","v":"AZ5399"},1494821,116,{"$f":"COUNTIF('JB Bestiling'!$G$50:$G$52,'JB Bestiling'!B74)","v":0}]
[null,"Blå",null,null,128,{"$f":"COUNTIF('JB Bestiling'!$G$50:$G$52,'JB Bestiling'!B75)","v":0}]
[{"$nulls":4},140,{"$f":"COUNTIF('JB Bestiling'!$G$50:$G$52,'JB Bestiling'!B76)","v":0}]
[{"$nulls":4},152,{"$f":"COUNTIF('JB Bestiling'!$G$50:$G$52,'JB Bestiling'!B77)","v":0}]
[{"$nulls":4},164,{"$f":"COUNTIF('JB Bestiling'!$G$50:$G$52,'JB Bestiling'!B78)","v":0}]
[{"$nulls":4},"S",{"$f":"COUNTIF('JB Bestiling'!$G$50:$G$52,'JB Bestiling'!B79)","v":0}]
[{"$nulls":4},"M",{"$f":"COUNTIF('JB Bestiling'!$G$50:$G$52,'JB Bestiling'!B80)","v":0}]
[{"$nulls":4},"L",{"$f":"COUNTIF('JB Bestiling'!$G$50:$G$52,'JB Bestiling'!B81)","v":0}]
[{"$nulls":4},"XL",{"$f":"COUNTIF('JB Bestiling'!$G$50:$G$52,'JB Bestiling'!B82)","v":0}]
[{"$nulls":4},"XXL",{"$f":"COUNTIF('JB Bestiling'!$G$50:$G$52,'JB Bestiling'!B83)","v":0}]
[null,{"$f":"H10","v":"Assita trøje"},{"$f":"I10","v":"AZ5400"},1494822,116,{"$f":"COUNTIF('JB Bestiling'!$G$50:$G$52,'JB Bestiling'!B84)","v":0}]
[null,"Grøn",null,null,128,{"$f":"COUNTIF('JB Bestiling'!$G$50:$G$52,'JB Bestiling'!B85)","v":0}]
[{"$nulls":4},140,{"$f":"COUNTIF('JB Bestiling'!$G$50:$G$52,'JB Bestiling'!B86)","v":0}]
[{"$nulls":4},152,{"$f":"COUNTIF('JB Bestiling'!$G$50:$G$52,'JB Bestiling'!B87)","v":0}]
[{"$nulls":4},164,{"$f":"COUNTIF('JB Bestiling'!$G$50:$G$52,'JB Bestiling'!B88)","v":0}]
[{"$nulls":4},"S",{"$f":"COUNTIF('JB Bestiling'!$G$50:$G$52,'JB Bestiling'!B89)","v":0}]
[{"$nulls":4},"M",{"$f":"COUNTIF('JB Bestiling'!$G$50:$G$52,'JB Bestiling'!B90)","v":0}]
[{"$nulls":4},"L",{"$f":"COUNTIF('JB Bestiling'!$G$50:$G$52,'JB Bestiling'!B91)","v":0}]
[{"$nulls":4},"XL",{"$f":"COUNTIF('JB Bestiling'!$G$50:$G$52,'JB Bestiling'!B92)","v":0}]
[{"$nulls":4},"XXL",{"$f":"COUNTIF('JB Bestiling'!$G$50:$G$52,'JB Bestiling'!B93)","v":0}]
[null,{"$f":"H11","v":"GK - Squadra shorts"},{"$f":"I11","v":"BK4766"},1495073,116,{"$f":"COUNTIF('JB Bestiling'!$H$50:$H$52,E67)","v":0}]
[null,"Sort",null,null,128,{"$f":"COUNTIF('JB Bestiling'!$H$50:$H$52,E68)","v":0}]
[{"$nulls":4},140,{"$f":"COUNTIF('JB Bestiling'!$H$50:$H$52,E69)","v":0}]
[{"$nulls":4},152,{"$f":"COUNTIF('JB Bestiling'!$H$50:$H$52,E70)","v":0}]
[{"$nulls":4},164,{"$f":"COUNTIF('JB Bestiling'!$H$50:$H$52,E71)","v":0}]
[{"$nulls":4},"S",{"$f":"COUNTIF('JB Bestiling'!$H$50:$H$52,E72)","v":0}]
[{"$nulls":4},"M",{"$f":"COUNTIF('JB Bestiling'!$H$50:$H$52,E73)","v":0}]
[{"$nulls":4},"L",{"$f":"COUNTIF('JB Bestiling'!$H$50:$H$52,E74)","v":0}]
[{"$nulls":4},"XL",{"$f":"COUNTIF('JB Bestiling'!$H$50:$H$52,E75)","v":0}]
[{"$nulls":4},"XXL",{"$f":"COUNTIF('JB Bestiling'!$H$50:$H$52,E76)","v":0}]
[null,{"$f":"H12","v":"GK - Adisock strømper"},{"$f":"I12","v":"CF3576"},2001461,{"$f":"'JB Bestiling'!D60","v":"27-30"},{"$f":"COUNTIF('JB Bestiling'!$I$50:$I$52,E77)","v":0}]
[null,"Sort",null,null,{"$f":"'JB Bestiling'!D61","v":"31-33"},{"$f":"COUNTIF('JB Bestiling'!$I$50:$I$52,E78)","v":0}]
[{"$nulls":4},{"$f":"'JB Bestiling'!D62","v":"34-36"},{"$f":"COUNTIF('JB Bestiling'!$I$50:$I$52,E79)","v":0}]
[{"$nulls":4},{"$f":"'JB Bestiling'!D63","v":"37-39"},{"$f":"COUNTIF('JB Bestiling'!$I$50:$I$52,E80)","v":0}]
[{"$nulls":4},{"$f":"'JB Bestiling'!D64","v":"40-42"},{"$f":"COUNTIF('JB Bestiling'!$I$50:$I$52,E81)","v":0}]
[{"$nulls":4},{"$f":"'JB Bestiling'!D65","v":"43-45"},{"$f":"COUNTIF('JB Bestiling'!$I$50:$I$52,E82)","v":0}]
[{"$nulls":4},{"$f":"'JB Bestiling'!D66","v":"46-48"},{"$f":"COUNTIF('JB Bestiling'!$I$50:$I$52,E83)","v":0}]

{"sheet":"Sponsor oplysninger","index":2,"n_rows":20,"n_cols":2,"rows_kept":20,"cut":false,"hidden":false,"merged":[[15,1,15,2],[15,3,15,8],[17,1,17,2],[17,3,17,8],[19,1,19,2],[19,3,19,8],[9,1,9,2],[9,3,9,8],[11,1,11,2],[11,3,11,8],[13,1,13,2],[13,3,13,8],[7,1,7,2],[7,3,7,8],[1,1,1,8],[3,1,3,2],[3,3,3,8],[5,1,5,2],[5,3,5,8]]}
[]
[null,"Sponsor oplysninger"]
[]
[null,"Firma"]
[]
[null,"Att."]
[]
[null,"Adresse"]
[]
[null,"Post nr."]
[]
[null,"By"]
[]
[null,"CVR nummer"]
[]
[null,"E-mail"]
[]
[null,"Kontaktperson"]
[]
[null,"Telefon / mobil"]