{"text_format":"2","workbook":"xlsx","n_sheets":2,"sheets":["JB Bestiling","Sportsmaster Bestilling"],"not_rendered":{"charts":0,"images":8,"macros":0,"external_links":1,"defined_names":2,"comments":0,"pivot_tables":0},"unopened":[],"bounds":{"document_bytes":16777216,"sheet_cells":100000,"run_cost":"one","rows_first":2000,"rows_last":500,"rows_between":2000,"halvings":0,"cell_chars":16384,"cell_head_chars":4096},"cells_cut":0,"cells_raw":0,"read":"whole","date_system":"1900"}

{"sheet":"JB Bestiling","index":0,"n_rows":95,"n_cols":8,"rows_kept":95,"cut":false,"hidden":false,"merged":[[0,2,1,6]]}
[null,null,"Kontingentsæt"]
[]
[null,"ÅRGANG",null,"HOLD",null,null,"HOLDANSVARLIG"]
[null,"Markspillere"," ",null,null,null," "]
[null,"Fornavn","Efternavn","Navn på trøje","Tryk","Trøje str","Shorts str","Strømper str"]
[null," "," "," ",{"$f":"UPPER(D6)","v":" "}]
[null,null,null," ",{"$f":"UPPER(D7)","v":" "}," ",null," "]
[null,null," ",null,""," "," "]
[null," ",null,null,""," "," "," "]
[{"$nulls":4},""," "," "," "]
[{"$nulls":4},""," "," "," "]
[{"$nulls":4},""," "," "," "]
[{"$nulls":4},""," "," "," "]
[{"$nulls":4},""," "," "," "]
[{"$nulls":4},""," "," "," "]
[{"$nulls":4},"",null," "," "]
[{"$nulls":4},"",null," "," "]
[{"$nulls":4},"",null," "," "]
[{"$nulls":4},"",null," "," "]
[{"$nulls":4},"",null," "," "]
[{"$nulls":4},"",null," "," "]
[{"$nulls":4},"",null," "," "]
[{"$nulls":4},"",null," "," "]
[{"$nulls":4},"",null," "," "]
[{"$nulls":4},"",null," "," "]
[{"$nulls":4},"",null," "," "]
[{"$nulls":4},"",null," "," "]
[{"$nulls":4},"",null," "," "]
[{"$nulls":4},"",null," "," "]
[{"$nulls":4},"",null," "," "]
[{"$nulls":4},"",null," "," "]
[{"$nulls":4},"",null," "," "]
[{"$nulls":4},"",null," "," "]
[{"$nulls":4},"",null," "," "]
[{"$nulls":4},"",null," "," "]
[null,null,null," "," ",null," "," "]
[{"$nulls":4},"",null," "," "]
[{"$nulls":4},""]
[]
[null,"Målmænd"]
[null,"Fornavn","Efternavn","Navn på trøje","Tryk","Trøje str","Shorts str","Strømper str"]
[null," ",null," ",{"$f":"UPPER(D42)","v":" "}]
[null,null," ",null,""]
[{"$nulls":4},""]
[]
[null,"TRYK på spilletrøjer","Bryst (venstre)","JB Logo"]
[null," ","Ryg (øverst)","Navn = kolonne D"]
[]
[]
[null,"Trøjestørrelser:","Shortsstørrelser:","Strømpestørrelser:",null,"Årgang","Hold"]
[null," "," "," "]
[null,116,116,"27-30",null,"INGEN (Senior og UNIK)","Drenge"]
[null,128,128,"31-33",null,2000,"Piger"]
[null,140,140,"34-36",null,2001,"Soccermoms"]
[null,152,152,"37-39",null,2002,"Soccerdads"]
[null,164,164,"40-42",null,2003,"Senior 1"]
[null,"S","S","43-45",null,2004,"Senior 2"]
[null,"M","M","46-48",null,2005,"Senior 3"]
[null,"L","L",null,null,2006,"Senior 4"]
[null,"XL","XL",null,null,2007,"Senior 5"]
[null,"XXL","XXL",null,null,2008,"Veteraner"]
[{"$nulls":5},2009,"60+"]
[{"$nulls":5},2010,"CP"]
[null,"Målmandstrøje",null,null,null,2011]
[null," ",null,null,null,2012]
[null,"Blå 116",null,null,null,2013]
[null,"Blå 128",null,null,null,2014]
[null,"Blå 140",null,null,null,2015]
[null,"Blå 152",null,null,null,2016]
[null,"Blå 164",null,null,null,2017]
[null,"Blå S",null,null,null,2018]
[null,"Blå M"]
[null,"Blå L"]
[null,"Blå XL"]
[null,"Blå XXL"]
[null,"Grøn 116"]
[null,"Grøn 128"]
[null,"Grøn 140"]
[null,"Grøn 152"]
[null,"Grøn 164"]
[null,"Grøn S"]
[null,"Grøn M"]
[null,"Grøn L"]
[null,"Grøn XL"]
[null,"Grøn XXL"]
[null,"Orange 116"]
[null,"Orange 128"]
[null,"Orange 140"]
[null,"Orange 152"]
[null,"Orange 164"]
[null,"Orange S"]
[null,"Orange M"]
[null,"Orange L"]
[null,"Orange XL"]
[null,"Orange XXL"]

{"sheet":"Sportsmaster Bestilling","index":1,"n_rows":66,"n_cols":17,"rows_kept":66,"cut":false,"hidden":false,"merged":[[18,7,18,8]]}
[{"$nulls":4},"Årgang",{"$f":"'JB Bestiling'!C3","v":0}]
[null,"Jægersborg sortiment",null,null,"Hold",{"$f":"'JB Bestiling'!E3","v":0},null,null,null,"Markspiller","Målmand",null,null,"Størrelse for tryk:","Str. ","Bemærkninger"]
[{"$nulls":4},"Holdans.",{"$f":"'JB Bestiling'!H3","v":0},null,"Kontingentsæt",null,276,376,null,null,"Logo","9 cm."]
[{"$nulls":7},"Stylenavn","Dessinnr.:","SDK","Farve",null,null,"Tal på ryg","24,5 cm."]
[{"$nulls":7},"Entrada t-shirt","CF1036",1581376,"Navy",null,null,"Tal på shorts + taske","5 cm. ","Navn: efternavn, fornavn eller kaldenavn - dette er op til den årgangsansvarlige"]
[{"$nulls":7},"Parma shorts","AJ5883",1469846,"Navy",null,null,"Navn på ryg","5 cm. "]
[{"$nulls":7},"Milano strømper","AC5262",1442186,"Navy",null,null,"Initialer","3,5 cm. "]
[{"$nulls":7},"Assita trøje","AZ5398",1494820,"Orange",{"$nulls":5}," "]
[{"$nulls":7},"Assita trøje","AZ5399",1494821,"Blå",null,null,"Tryk","Str. ","Pris pr. tal"]
[null,{"$f":"H5","v":"Entrada t-shirt"},{"$f":"I5","v":"CF1036"},{"$f":"J5","v":1581376},116,{"$f":"COUNTIF('JB Bestiling'!$F$6:$F$38,E10)","v":0},null,"Assita trøje","AZ5400",1494822,"Grøn",null,null,"Tal på bryst/short","5 cm",25]
[{"$nulls":4},128,{"$f":"COUNTIF('JB Bestiling'!$F$6:$F$38,E11)","v":0},null,"Inkl. klublogo på venstre bryst, samt højre lår og navn på ryg af t-shirt",{"$nulls":5},"Sponsorlogo 1-farvet","10*25",37.5]
[{"$nulls":4},140,{"$f":"COUNTIF('JB Bestiling'!$F$6:$F$38,E12)","v":0},null,"Udvidet: Nummer centreret på bryst og/eller ryggen, samt mulighed for nummer på venstre lår over Adidas logo",{"$nulls":5},"Sponsorlogo 1-farvet","10*10",25]
[{"$nulls":4},152,{"$f":"COUNTIF('JB Bestiling'!$F$6:$F$38,E13)","v":0},null,"Udvidet koster ekstra - se pris i oversigten",{"$nulls":5},"Nyt sponsorlogo (gebyr)",null,250,"Vektorformat "]
[{"$nulls":4},164,{"$f":"COUNTIF('JB Bestiling'!$F$6:$F$38,E14)","v":0},{"$nulls":7},"Prisen gælder ved 1-farvet logo"]
[{"$nulls":4},"S",{"$f":"COUNTIF('JB Bestiling'!$F$6:$F$38,E15)","v":0}]
[{"$nulls":4},"M",{"$f":"COUNTIF('JB Bestiling'!$F$6:$F$38,E16)","v":0}]
[{"$nulls":4},"L",{"$f":"COUNTIF('JB Bestiling'!$F$6:$F$38,E17)","v":0}]
[{"$nulls":4},"XL",{"$f":"COUNTIF('JB Bestiling'!$F$6:$F$38,E18)","v":0}]
[{"$nulls":4},"XXL",{"$f":"COUNTIF('JB Bestiling'!$F$6:$F$38,E19)","v":0},null,"Optælling / Kontrol"]
[null,{"$f":"H6","v":"Parma shorts"},{"$f":"I6","v":"AJ5883"},1469846,116,{"$f":"COUNTIF('JB Bestiling'!$G$6:$G$44,E20)","v":0},null,"Markspiller - Tee",{"$f":"SUM(F10:F19)","v":0}]
[{"$nulls":4},128,{"$f":"COUNTIF('JB Bestiling'!$G$6:$G$44,E21)","v":0},null,"Short",{"$f":"SUM(F20:F29)","v":0}]
[{"$nulls":4},140,{"$f":"COUNTIF('JB Bestiling'!$G$6:$G$44,E22)","v":0},null,"Strømper",{"$f":"SUM(F30:F36)","v":0}]
[{"$nulls":4},152,{"$f":"COUNTIF('JB Bestiling'!$G$6:$G$44,E23)","v":0},null,"GK - Tee",{"$f":"SUM(F37:F66)","v":0}]
[{"$nulls":4},164,{"$f":"COUNTIF('JB Bestiling'!$G$6:$G$44,E24)","v":0},null,"Enheder i alt",{"$f":"SUM(I20:I23)","v":0}]
[{"$nulls":4},"S",{"$f":"COUNTIF('JB Bestiling'!$G$6:$G$44,E25)","v":0}]
[{"$nulls":4},"M",{"$f":"COUNTIF('JB Bestiling'!$G$6:$G$44,E26)","v":0}]
[{"$nulls":4},"L",{"$f":"COUNTIF('JB Bestiling'!$G$6:$G$44,E27)","v":0}]
[{"$nulls":4},"XL",{"$f":"COUNTIF('JB Bestiling'!$G$6:$G$44,E28)","v":0}]
[{"$nulls":4},"XXL",{"$f":"COUNTIF('JB Bestiling'!$G$6:$G$44,E29)","v":0}]
[null,{"$f":"H7","v":"Milano strømper"},{"$f":"I7","v":"AC5262"},1442186,{"$f":"'JB Bestiling'!D52","v":"27-30"},{"$f":"COUNTIF('JB Bestiling'!$H$6:$H$44,E30)","v":0}]
[{"$nulls":4},{"$f":"'JB Bestiling'!D53","v":"31-33"},{"$f":"COUNTIF('JB Bestiling'!$H$6:$H$44,E31)","v":0}]
[{"$nulls":4},{"$f":"'JB Bestiling'!D54","v":"34-36"},{"$f":"COUNTIF('JB Bestiling'!$H$6:$H$44,E32)","v":0}]
[{"$nulls":4},{"$f":"'JB Bestiling'!D55","v":"37-39"},{"$f":"COUNTIF('JB Bestiling'!$H$6:$H$44,E33)","v":0}]
[{"$nulls":4},{"$f":"'JB Bestiling'!D56","v":"40-42"},{"$f":"COUNTIF('JB Bestiling'!$H$6:$H$44,E34)","v":0}]
[{"$nulls":4},{"$f":"'JB Bestiling'!D57","v":"43-45"},{"$f":"COUNTIF('JB Bestiling'!$H$6:$H$44,E35)","v":0}]
[{"$nulls":4},{"$f":"'JB Bestiling'!D58","v":"46-48"},{"$f":"COUNTIF('JB Bestiling'!$H$6:$H$44,E36)","v":0}]
[null,{"$f":"H8","v":"Assita trøje"},{"$f":"I8","v":"AZ5398"},1494820,116,{"$f":"COUNTIF('JB Bestiling'!$F$42:$F$44,'JB Bestiling'!B86)","v":0}]
[null,"Orange",null,null,128,{"$f":"COUNTIF('JB Bestiling'!$F$42:$F$44,'JB Bestiling'!B87)","v":0}]
[{"$nulls":4},140,{"$f":"COUNTIF('JB Bestiling'!$F$42:$F$44,'JB Bestiling'!B88)","v":0}]
[{"$nulls":4},152,{"$f":"COUNTIF('JB Bestiling'!$F$42:$F$44,'JB Bestiling'!B89)","v":0}]
[{"$nulls":4},164,{"$f":"COUNTIF('JB Bestiling'!$F$42:$F$44,'JB Bestiling'!B90)","v":0}]
[{"$nulls":4},"S",{"$f":"COUNTIF('JB Bestiling'!$F$42:$F$44,'JB Bestiling'!B91)","v":0}]
[{"$nulls":4},"M",{"$f":"COUNTIF('JB Bestiling'!$F$42:$F$44,'JB Bestiling'!B92)","v":0}]
[{"$nulls":4},"L",{"$f":"COUNTIF('JB Bestiling'!$F$42:$F$44,'JB Bestiling'!B93)","v":0}]
[{"$nulls":4},"XL",{"$f":"COUNTIF('JB Bestiling'!$F$42:$F$44,'JB Bestiling'!B94)","v":0}]
[{"$nulls":4},"XXL",{"$f":"COUNTIF('JB Bestiling'!$F$42:$F$44,'JB Bestiling'!B95)","v":0}]
[null,{"$f":"H9","v":"Assita trøje"},{"$f":"I9","v":"AZ5399"},1494821,116,{"$f":"COUNTIF('JB Bestiling'!$F$42:$F$44,'JB Bestiling'!B66)","v":0}]
[null,"Blå",null,null,128,{"$f":"COUNTIF('JB Bestiling'!$F$42:$F$44,'JB Bestiling'!B67)","v":0}]
[{"$nulls":4},140,{"$f":"COUNTIF('JB Bestiling'!$F$42:$F$44,'JB Bestiling'!B68)","v":0}]
[{"$nulls":4},152,{"$f":"COUNTIF('JB Bestiling'!$F$42:$F$44,'JB Bestiling'!B69)","v":0}]
[{"$nulls":4},164,{"$f":"COUNTIF('JB Bestiling'!$F$42:$F$44,'JB Bestiling'!B70)","v":0}]
[{"$nulls":4},"S",{"$f":"COUNTIF('JB Bestiling'!$F$42:$F$44,'JB Bestiling'!B71)","v":0}]
[{"$nulls":4},"M",{"$f":"COUNTIF('JB Bestiling'!$F$42:$F$44,'JB Bestiling'!B72)","v":0}]
[{"$nulls":4},"L",{"$f":"COUNTIF('JB Bestiling'!$F$42:$F$44,'JB Bestiling'!B73)","v":0}]
[{"$nulls":4},"XL",{"$f":"COUNTIF('JB Bestiling'!$F$42:$F$44,'JB Bestiling'!B74)","v":0}]
[{"$nulls":4},"XXL",{"$f":"COUNTIF('JB Bestiling'!$F$42:$F$44,'JB Bestiling'!B75)","v":0}]
[null,{"$f":"H10","v":"Assita trøje"},{"$f":"I10","v":"AZ5400"},1494822,116,{"$f":"COUNTIF('JB Bestiling'!$F$42:$F$44,'JB Bestiling'!B76)","v":0}]
[null,"Grøn",null,null,128,{"$f":"COUNTIF('JB Bestiling'!$F$42:$F$44,'JB Bestiling'!B77)","v":0}]
[{"$nulls":4},140,{"$f":"COUNTIF('JB Bestiling'!$F$42:$F$44,'JB Bestiling'!B78)","v":0}]
[{"$nulls":4},152,{"$f":"COUNTIF('JB Bestiling'!$F$42:$F$44,'JB Bestiling'!B79)","v":0}]
[{"$nulls":4},164,{"$f":"COUNTIF('JB Bestiling'!$F$42:$F$44,'JB Bestiling'!B80)","v":0}]
[{"$nulls":4},"S",{"$f":"COUNTIF('JB Bestiling'!$F$42:$F$44,'JB Bestiling'!B81)","v":0}]
[{"$nulls":4},"M",{"$f":"COUNTIF('JB Bestiling'!$F$42:$F$44,'JB Bestiling'!B82)","v":0}]
[{"$nulls":4},"L",{"$f":"COUNTIF('JB Bestiling'!$F$42:$F$44,'JB Bestiling'!B83)","v":0}]
[{"$nulls":4},"XL",{"$f":"COUNTIF('JB Bestiling'!$F$42:$F$44,'JB Bestiling'!B84)","v":0}]
[{"$nulls":4},"XXL",{"$f":"COUNTIF('JB Bestiling'!$F$42:$F$44,'JB Bestiling'!B85)","v":0}]